BEGIN:VCALENDAR
PRODID:-//github.com/rianjs/ical.net//NONSGML ical.net 4.0//EN
VERSION:2.0
BEGIN:VEVENT
CLASS:PUBLIC
CREATED:20260407T211349
DESCRIPTION:Engagement at titchmarsh church coffee morning.
DTEND:20260608T103000
DTSTAMP:20260407T201349Z
DTSTART:20260608T093000
LOCATION:NN14 3DB\, Church Street\,NN14 3DB
SEQUENCE:0
STATUS:
SUMMARY:Titchmarsh - Speak with an Officer
END:VEVENT
END:VCALENDAR
