BEGIN:VCALENDAR
PRODID:-//github.com/rianjs/ical.net//NONSGML ical.net 4.0//EN
VERSION:2.0
BEGIN:VEVENT
CLASS:PUBLIC
CREATED:20260407T210436
DESCRIPTION:Engagement at Titchmarsh church coffee morning.
DTEND:20260511T103000
DTSTAMP:20260407T200436Z
DTSTART:20260511T093000
LOCATION:NN14 3DB\, Church Street\,NN14 3DB
SEQUENCE:0
STATUS:
SUMMARY:Titchmarsh - Community Engagement
END:VEVENT
END:VCALENDAR
