BEGIN:VCALENDAR
PRODID:-//github.com/rianjs/ical.net//NONSGML ical.net 4.0//EN
VERSION:2.0
BEGIN:VEVENT
CLASS:PUBLIC
CREATED:20260307T101025
DESCRIPTION:
DTEND:20260606T150900
DTSTAMP:20260307T101025Z
DTSTART:20260606T100900
LOCATION:Warwickshire Police\, High Street\,CV12 8NH
SEQUENCE:0
STATUS:
SUMMARY:Bedworth Pride
UID:1BC58F2B8B7E8159CF37EE06CF3FF36D
END:VEVENT
END:VCALENDAR
