BEGIN:VCALENDAR
PRODID:-//github.com/rianjs/ical.net//NONSGML ical.net 4.0//EN
VERSION:2.0
BEGIN:VEVENT
CLASS:PUBLIC
CREATED:20260307T094013
DESCRIPTION:
DTEND:20260629T113000
DTSTAMP:20260307T094013Z
DTSTART:20260629T100000
LOCATION:Stretton court\, 5 Elter Close\,CV21 1JD
SEQUENCE:0
STATUS:
SUMMARY:Cuppa with a Copper - Stretton Court \, Rugby\, CV21 1JD
END:VEVENT
END:VCALENDAR
