BEGIN:VCALENDAR
PRODID:-//github.com/rianjs/ical.net//NONSGML ical.net 4.0//EN
VERSION:2.0
BEGIN:VEVENT
CLASS:PUBLIC
CREATED:20260306T142047
DESCRIPTION:Engagement with the youth club
DTEND:20260514T210000
DTSTAMP:20260306T142047Z
DTSTART:20260514T190000
LOCATION:Long Lawford Methodist Church\, 18 School Street\,CV23 9AT
SEQUENCE:0
STATUS:
SUMMARY:Long Lawford youth club
UID:5AD9C36FB5D291CC1B07AE7D3769081F
END:VEVENT
END:VCALENDAR
