BEGIN:VCALENDAR
PRODID:-//github.com/rianjs/ical.net//NONSGML ical.net 4.0//EN
VERSION:2.0
BEGIN:VEVENT
CLASS:PUBLIC
CREATED:20260306T141903
DESCRIPTION:Police pop in addressing issues/concerns the local community m
 ay have.
DTEND:20260513T113000
DTSTAMP:20260306T141903Z
DTSTART:20260513T093000
LOCATION:Saint Margarets Avenue\,CV8
SEQUENCE:0
STATUS:
SUMMARY:Wolston - Maggies Cafe
UID:4958FD2CC757FFCA610D812D3CC8769D
END:VEVENT
END:VCALENDAR
