BEGIN:VCALENDAR
PRODID:-//github.com/rianjs/ical.net//NONSGML ical.net 4.0//EN
VERSION:2.0
BEGIN:VEVENT
CLASS:PUBLIC
CREATED:20260305T102713
DESCRIPTION:
DTEND:20260621T170000
DTSTAMP:20260305T102713Z
DTSTART:20260621T090000
LOCATION:Gurdwara Baba Vadbhag Singh Ji\, 6 Bayton Road\,CV7 9EJ
SEQUENCE:0
STATUS:
SUMMARY:Family day at Bedworth Gurdwara
UID:1F3B282BD5507C220A740E5090E4EF98
END:VEVENT
END:VCALENDAR
