BEGIN:VCALENDAR
PRODID:-//github.com/rianjs/ical.net//NONSGML ical.net 4.0//EN
VERSION:2.0
BEGIN:VEVENT
CLASS:PUBLIC
CREATED:20260302T171128
DESCRIPTION:Violence against women and girls walk - NHW\, Safeline and ROS
 A invited to strengthen partnership working.
DTEND:20260502T123000
DTSTAMP:20260302T171128Z
DTSTART:20260502T100000
LOCATION:CV22 7GU\, Scholars Drive\,CV22 7GU
SEQUENCE:0
STATUS:
SUMMARY:Cawston Community Centre - VAWG Walk
UID:7B8C068E65BFE6CCEFD60553DC18B69C
END:VEVENT
END:VCALENDAR
