BEGIN:VCALENDAR
PRODID:-//github.com/rianjs/ical.net//NONSGML ical.net 4.0//EN
VERSION:2.0
BEGIN:VEVENT
CLASS:PUBLIC
CREATED:20260221T095304
DESCRIPTION:For attendance if time allows
DTEND:20260617T220000
DTSTAMP:20260221T095304Z
DTSTART:20260617T193000
LOCATION:Stockbury Village Hall\, The Street\,ME9 7UD
SEQUENCE:0
STATUS:
SUMMARY:Stockbury Parish Council - Full Council Meeting
END:VEVENT
END:VCALENDAR
