BEGIN:VCALENDAR
PRODID:-//github.com/rianjs/ical.net//NONSGML ical.net 4.0//EN
VERSION:2.0
BEGIN:VEVENT
CLASS:PUBLIC
CREATED:20260221T090805
DESCRIPTION:For attendance if time allows.
DTEND:20260624T220000
DTSTAMP:20260221T090805Z
DTSTART:20260624T193000
LOCATION:Harrietsham Village Hall\, Church Road\,ME17 1AP
SEQUENCE:0
STATUS:
SUMMARY:Harrietsham Parish Council - Full Council Meeting
END:VEVENT
END:VCALENDAR
