BEGIN:VCALENDAR
PRODID:-//github.com/rianjs/ical.net//NONSGML ical.net 4.0//EN
VERSION:2.0
BEGIN:VEVENT
CLASS:PUBLIC
CREATED:20260221T085313
DESCRIPTION:For attendance if time allows.
DTEND:20260603T220000
DTSTAMP:20260221T085313Z
DTSTART:20260603T193000
LOCATION:Lenham Community Centre\, 12 Groom Way\,ME17 2QT
SEQUENCE:0
STATUS:
SUMMARY:Lenham Parish Council - Full Council Meeting
END:VEVENT
END:VCALENDAR
