BEGIN:VCALENDAR
PRODID:-//github.com/rianjs/ical.net//NONSGML ical.net 4.0//EN
VERSION:2.0
BEGIN:VEVENT
CLASS:PUBLIC
CREATED:20260215T102528
DESCRIPTION:
DTEND:20260516T160000
DTSTAMP:20260215T102528Z
DTSTART:20260516T140000
LOCATION:Cafe in the Park Binley woods\, Craven Avenue\,CV3 2JJ
SEQUENCE:0
STATUS:
SUMMARY:Binley Woods Café in the park - police pop in
UID:736ECA6BAAEA54EB94FBA59D4AA38D6D
END:VEVENT
END:VCALENDAR
