BEGIN:VCALENDAR
PRODID:-//github.com/rianjs/ical.net//NONSGML ical.net 4.0//EN
VERSION:2.0
BEGIN:VEVENT
CLASS:PUBLIC
CREATED:20260415T144527
DESCRIPTION:
DTEND:20260520T140000
DTSTAMP:20260415T134527Z
DTSTART:20260520T130000
LOCATION:ME5 8TH\, Kestrel Road\,ME5 8TH
SEQUENCE:0
SUMMARY:Lordswood Drop in Surgery
UID:BDE2BF4AFE06BE6E2C9F66DA7AD40A45
END:VEVENT
END:VCALENDAR
