BEGIN:VCALENDAR
PRODID:-//github.com/rianjs/ical.net//NONSGML ical.net 4.0//EN
VERSION:2.0
BEGIN:VEVENT
CLASS:PUBLIC
CREATED:20260211T082624
DESCRIPTION:
DTEND:20260624T113000
DTSTAMP:20260211T082624Z
DTSTART:20260624T103000
LOCATION:Hilltop Garden Centre\, Shilton Lane\,CV7 9LH
SEQUENCE:0
STATUS:
SUMMARY:Hilltop Garden Centre Pop up.
UID:706432BDE1938A02440243387E7BF3CF
END:VEVENT
END:VCALENDAR
