BEGIN:VCALENDAR
PRODID:-//github.com/rianjs/ical.net//NONSGML ical.net 4.0//EN
VERSION:2.0
BEGIN:VEVENT
CLASS:PUBLIC
CREATED:20260421T075230
DESCRIPTION:
DTEND:20260519T120000
DTSTAMP:20260421T065230Z
DTSTART:20260519T100000
LOCATION:St Francis Of Assisi RC Church\, 110 Warwick Road\,CV8 1HL
SEQUENCE:0
STATUS:
SUMMARY:St Francis of Assisi Church Cuppa with a copper
END:VEVENT
END:VCALENDAR
