BEGIN:VCALENDAR
PRODID:-//github.com/rianjs/ical.net//NONSGML ical.net 4.0//EN
VERSION:2.0
BEGIN:VEVENT
CLASS:PUBLIC
CREATED:20260205T142713
DESCRIPTION:
DTEND:20260521T103000
DTSTAMP:20260205T142713Z
DTSTART:20260521T093000
LOCATION:Salford Priors Memorial Hall\, School Road\,WR11 8XD
SEQUENCE:0
STATUS:
SUMMARY:Salford Priors Warm Hub
UID:CFB569297F03C7558510218746F3B76A
END:VEVENT
END:VCALENDAR
