BEGIN:VCALENDAR
PRODID:-//github.com/rianjs/ical.net//NONSGML ical.net 4.0//EN
VERSION:2.0
BEGIN:VEVENT
CLASS:PUBLIC
CREATED:20260304T082249
DESCRIPTION:
DTEND:20260618T143000
DTSTAMP:20260304T082249Z
DTSTART:20260618T140000
LOCATION:Ombersley Memorial Hall\, Sandys Road\,WR9 0DY
SEQUENCE:0
STATUS:
SUMMARY:COMMUNITY EVENT
END:VEVENT
END:VCALENDAR
