BEGIN:VCALENDAR
PRODID:-//github.com/rianjs/ical.net//NONSGML ical.net 4.0//EN
VERSION:2.0
BEGIN:VEVENT
CLASS:PUBLIC
CREATED:20260202T105330
DESCRIPTION:
DTEND:20260614T130000
DTSTAMP:20260202T105330Z
DTSTART:20260614T120000
LOCATION:West Mercia Police - Church Stretton Police Station\, \,SY6 6AZ
SEQUENCE:0
STATUS:
SUMMARY:Police station drop in
END:VEVENT
END:VCALENDAR
