BEGIN:VCALENDAR
PRODID:-//github.com/rianjs/ical.net//NONSGML ical.net 4.0//EN
VERSION:2.0
BEGIN:VEVENT
CLASS:PUBLIC
CREATED:20260417T133046
DESCRIPTION:
DTEND:20260422T160000
DTSTAMP:20260417T123046Z
DTSTART:20260422T140000
LOCATION:Sunlight Centre\, 105 Richmond Road\,ME7 1LX
SEQUENCE:0
SUMMARY:North Gillingham Beat Surgery
UID:31E437DD806F9E4A74CEEB05A35DAE50
END:VEVENT
END:VCALENDAR
