BEGIN:VCALENDAR
PRODID:-//github.com/rianjs/ical.net//NONSGML ical.net 4.0//EN
VERSION:2.0
BEGIN:VEVENT
CLASS:PUBLIC
CREATED:20260407T082421
DESCRIPTION:
DTEND:20260426T160000
DTSTAMP:20260407T072421Z
DTSTART:20260426T140000
LOCATION:Osbern Manor Care Home\, 26 Hoath Lane\,ME8 0SW
SEQUENCE:0
SUMMARY:Police Surgery Osbern Manor 26 Hoath Lane\, Gillingham\, Kent
UID:8ADC1458C01D92C348415D6AA2074332
END:VEVENT
END:VCALENDAR
