BEGIN:VCALENDAR
PRODID:-//github.com/rianjs/ical.net//NONSGML ical.net 4.0//EN
VERSION:2.0
BEGIN:VEVENT
CLASS:PUBLIC
CREATED:20260407T083413
DESCRIPTION:
DTEND:20260425T160000
DTSTAMP:20260407T073413Z
DTSTART:20260425T140000
LOCATION:Park wood green public car park\, Parkwood Green\,ME8 9PR
SEQUENCE:0
SUMMARY:Police Surgery Parkwood Green Car Park
UID:6548B95B665B504AB4C240906705773F
END:VEVENT
END:VCALENDAR
