BEGIN:VCALENDAR
PRODID:-//github.com/rianjs/ical.net//NONSGML ical.net 4.0//EN
VERSION:2.0
BEGIN:VEVENT
CLASS:PUBLIC
CREATED:20260420T085637
DESCRIPTION:Police Surgery Rainham North
DTEND:20260425T120000
DTSTAMP:20260420T075637Z
DTSTART:20260425T100000
LOCATION:Rainham Library\, Birling Avenue\,ME8 7LR
SEQUENCE:0
STATUS:
SUMMARY:Police Surgery Rainham Library
UID:F3ACD87F895EEF214DCF8FA3BDCED7D3
END:VEVENT
END:VCALENDAR
