BEGIN:VCALENDAR
PRODID:-//github.com/rianjs/ical.net//NONSGML ical.net 4.0//EN
VERSION:2.0
BEGIN:VEVENT
CLASS:PUBLIC
CREATED:20260125T072656
DESCRIPTION:Conduct a Police Pop up surgery to engage with the public offe
 ring advice\, answer questions and listening to their concerns. Provide l
 iterature booklets and leaflets on all types of topics in particular Burg
 lary prevention\, Car security and Anti-Social behaviour. Talking about o
 ur PCSO role within the community ensuring we are approachable and here t
 o build a better and safer community for everyone. Talk about Warwickshir
 e connected and encourage them of its benefits and to get them signed up.
DTEND:20260502T150000
DTSTAMP:20260125T072656Z
DTSTART:20260502T130000
LOCATION:CV22 7GU\, Scholars Drive\,CV22 7GU
SEQUENCE:0
STATUS:
SUMMARY:Co-op Cawston - Police Pop-UP
UID:B722485FB76878609AB40642DF4CABF0
END:VEVENT
END:VCALENDAR
