BEGIN:VCALENDAR
PRODID:-//github.com/rianjs/ical.net//NONSGML ical.net 4.0//EN
VERSION:2.0
BEGIN:VEVENT
CLASS:PUBLIC
CREATED:20260123T143442
DESCRIPTION:
DTEND:20260522T150000
DTSTAMP:20260123T143442Z
DTSTART:20260522T130000
LOCATION:Chipping Warden\, \,OX17
SEQUENCE:0
STATUS:
SUMMARY:Street Surgery Chipping Warden Playing Fields
UID:3386F0D3136F4DDF65CEC40948FBD76B
END:VEVENT
END:VCALENDAR
