BEGIN:VCALENDAR
PRODID:-//github.com/rianjs/ical.net//NONSGML ical.net 4.0//EN
VERSION:2.0
BEGIN:VEVENT
CLASS:PUBLIC
CREATED:20260123T141730
DESCRIPTION:
DTEND:20260522T180000
DTSTAMP:20260123T141730Z
DTSTART:20260522T160000
LOCATION:St. Mary's Catholic Primary School\, Main Street\,NN11 6UF
SEQUENCE:0
STATUS:
SUMMARY:Street Surgery
UID:86F195D100AB4AFE01807609192D4350
END:VEVENT
END:VCALENDAR
