BEGIN:VCALENDAR
PRODID:-//github.com/rianjs/ical.net//NONSGML ical.net 4.0//EN
VERSION:2.0
BEGIN:VEVENT
CLASS:PUBLIC
CREATED:20260404T093012
DESCRIPTION:
DTEND:20260509T120000
DTSTAMP:20260404T083012Z
DTSTART:20260509T100000
LOCATION:Milton Ernest Garden Centre\, Radwell Road\,MK44 1SH
SEQUENCE:0
SUMMARY:Milton Ernest - Coffee with a Cop
UID:97ADF19C2D31DB471F586F41B6E73875
END:VEVENT
END:VCALENDAR
