BEGIN:VCALENDAR
PRODID:-//github.com/rianjs/ical.net//NONSGML ical.net 4.0//EN
VERSION:2.0
BEGIN:VEVENT
CLASS:PUBLIC
CREATED:20260122T085657
DESCRIPTION:
DTEND:20260513T190000
DTSTAMP:20260122T085657Z
DTSTART:20260513T180000
LOCATION:Swans Length\,B48
SEQUENCE:0
STATUS:
SUMMARY:Police drop-in Surgery-Alvechurch
UID:EA090C9F4E6CE4F9B9E155F5125AD3CA
END:VEVENT
END:VCALENDAR
