BEGIN:VCALENDAR
PRODID:-//github.com/rianjs/ical.net//NONSGML ical.net 4.0//EN
VERSION:2.0
BEGIN:VEVENT
CLASS:PUBLIC
CREATED:20260122T084912
DESCRIPTION:
DTEND:20260508T190000
DTSTAMP:20260122T084912Z
DTSTART:20260508T180000
LOCATION:Beoley Village Hall\, \,B98 9AN
SEQUENCE:0
STATUS:
SUMMARY:Crime Prevention Event- Keyless Vehicles
UID:67FC68DD269BF1AEA95296D0D49CCAD9
END:VEVENT
END:VCALENDAR
