BEGIN:VCALENDAR
PRODID:-//github.com/rianjs/ical.net//NONSGML ical.net 4.0//EN
VERSION:2.0
BEGIN:VEVENT
CLASS:PUBLIC
CREATED:20260118T211518
DESCRIPTION:Conduct a Police Pop up surgery to engage with the public offe
 ring advice\, answer questions and listening to their concerns. Provide l
 iterature booklets and leaflets on all types of topics in particular Burg
 lary prevention\, Car security and Anti-Social behaviour. Talking about o
 ur PCSO role within the community ensuring we are approachable and here t
 o build a better and safer community for everyone. Talk about Warwickshir
 e connected and encourage them of its benefits and to get them signed up.
DTEND:20260510T150000
DTSTAMP:20260118T211518Z
DTSTART:20260510T130000
LOCATION:CV22 7DT\, Bilton Road\,CV22 7DT
SEQUENCE:0
STATUS:
SUMMARY:Lidl - Police Pop-Up
UID:7DBB0035678FF8EB7D76A91E6950AC94
END:VEVENT
END:VCALENDAR
