BEGIN:VCALENDAR
PRODID:-//github.com/rianjs/ical.net//NONSGML ical.net 4.0//EN
VERSION:2.0
BEGIN:VEVENT
CLASS:PUBLIC
CREATED:20260114T164752
DESCRIPTION:surgery at the SNT office
DTEND:20260517T160000
DTSTAMP:20260114T164752Z
DTSTART:20260517T150000
LOCATION:36 Oldford Walk\,DY13 0DW
SEQUENCE:0
STATUS:
SUMMARY:Surgery at the Walshes SNT office
UID:760091007F017CF3B1AD6195952D5B4D
END:VEVENT
END:VCALENDAR
