BEGIN:VCALENDAR
PRODID:-//github.com/rianjs/ical.net//NONSGML ical.net 4.0//EN
VERSION:2.0
BEGIN:VEVENT
CLASS:PUBLIC
CREATED:20260313T143154
DESCRIPTION:
DTEND:20260515T150000
DTSTAMP:20260313T143154Z
DTSTART:20260515T140000
LOCATION:The Bears Trading Company\, 134 Tankerton Road\,CT5 2AN
SEQUENCE:0
STATUS:
SUMMARY:Coffee with a Cop
END:VEVENT
END:VCALENDAR
