BEGIN:VCALENDAR
PRODID:-//github.com/rianjs/ical.net//NONSGML ical.net 4.0//EN
VERSION:2.0
BEGIN:VEVENT
CLASS:PUBLIC
CREATED:20260114T093129
DESCRIPTION:
DTEND:20260429T110000
DTSTAMP:20260114T093129Z
DTSTART:20260429T100000
LOCATION:Chase Meadow Community Centre & Place of Worship\, Narrow Hall Me
 adow\,CV34 6BT
SEQUENCE:0
STATUS:
SUMMARY:cuppa with a copper
UID:ACE165BF3CF40E383E49C3BE822EF681
END:VEVENT
END:VCALENDAR
