BEGIN:VCALENDAR
PRODID:-//github.com/rianjs/ical.net//NONSGML ical.net 4.0//EN
VERSION:2.0
BEGIN:VEVENT
CLASS:PUBLIC
CREATED:20260114T093045
DESCRIPTION:
DTEND:20260428T110000
DTSTAMP:20260114T093045Z
DTSTART:20260428T100000
LOCATION:Catholic Church St. Mary Immaculate\, 45 West Street\,CV34 6AB
SEQUENCE:0
STATUS:
SUMMARY:cuppa with a copper
UID:6B771F75C9B5DF62C8646FEC6044B3D9
END:VEVENT
END:VCALENDAR
