BEGIN:VCALENDAR
PRODID:-//github.com/rianjs/ical.net//NONSGML ical.net 4.0//EN
VERSION:2.0
BEGIN:VEVENT
CLASS:PUBLIC
CREATED:20260422T101535
DESCRIPTION:
DTEND:20260428T130000
DTSTAMP:20260422T091535Z
DTSTART:20260428T120000
LOCATION:Asda Bromsgrove Superstore\, 21 Market Street\,B61 8DA
SEQUENCE:0
SUMMARY:Asda Drop In Surgery
UID:EBFC2AF2EFE3DDA9EFC12B0C4617CEE8
END:VEVENT
END:VCALENDAR
