BEGIN:VCALENDAR
PRODID:-//github.com/rianjs/ical.net//NONSGML ical.net 4.0//EN
VERSION:2.0
BEGIN:VEVENT
CLASS:PUBLIC
CREATED:20260103T195054
DESCRIPTION:Beat Bus Surgery
DTEND:20260723T113000
DTSTAMP:20260103T195054Z
DTSTART:20260723T103000
LOCATION:Red Lion at Hellidon\, Stockwell Lane\,NN11 6LG
SEQUENCE:0
STATUS:
SUMMARY:Beat Bus Hellidon
UID:BFAFAD1FBF123952397A05F0166603B7
END:VEVENT
END:VCALENDAR
