BEGIN:VCALENDAR
PRODID:-//github.com/rianjs/ical.net//NONSGML ical.net 4.0//EN
VERSION:2.0
BEGIN:VEVENT
CLASS:PUBLIC
CREATED:20251216T181954
DESCRIPTION:
DTEND:20260601T200000
DTSTAMP:20251216T181954Z
DTSTART:20260601T190000
LOCATION:B46 3LD\, Parkfield Road\,B46 3LD
SEQUENCE:0
STATUS:
SUMMARY:Facebook Online Meeting
UID:E5DE44BB2E03DF00ECEE688B409C701F
END:VEVENT
END:VCALENDAR
