BEGIN:VCALENDAR
PRODID:-//github.com/rianjs/ical.net//NONSGML ical.net 4.0//EN
VERSION:2.0
BEGIN:VEVENT
CLASS:PUBLIC
CREATED:20251212T092349
DESCRIPTION:Community engagement
DTEND:20260617T113000
DTSTAMP:20251212T092349Z
DTSTART:20260617T103000
LOCATION:WR8 0HN\, Old Street\,WR8 0HN
SEQUENCE:0
STATUS:
SUMMARY:Baptist church
UID:B172FB76C159939471D01D68CC458594
END:VEVENT
END:VCALENDAR
