BEGIN:VCALENDAR
PRODID:-//github.com/rianjs/ical.net//NONSGML ical.net 4.0//EN
VERSION:2.0
BEGIN:VEVENT
CLASS:PUBLIC
CREATED:20251212T091905
DESCRIPTION:Community engagement
DTEND:20260527T113000
DTSTAMP:20251212T091905Z
DTSTART:20260527T103000
LOCATION:WR8 0HN\, Old Street\,WR8 0HN
SEQUENCE:0
STATUS:
SUMMARY:Baptist church
UID:7BF90B791B947D9C4728B03A73A7D8C0
END:VEVENT
END:VCALENDAR
