BEGIN:VCALENDAR
PRODID:-//github.com/rianjs/ical.net//NONSGML ical.net 4.0//EN
VERSION:2.0
BEGIN:VEVENT
CLASS:PUBLIC
CREATED:20251129T093632
DESCRIPTION:XB25 - Teynham Police surgery / VAWG talk
DTEND:20260710T120000
DTSTAMP:20251129T093632Z
DTSTART:20260710T100000
LOCATION:Jo-Eleanor's Bread & Butter\, \,ME9 9QJ
SEQUENCE:0
STATUS:
SUMMARY:XB25 - Teynham Police surgery / VAWG talk
UID:92F397FBF62C54851124984C35939AE3
END:VEVENT
END:VCALENDAR
