BEGIN:VCALENDAR
PRODID:-//github.com/rianjs/ical.net//NONSGML ical.net 4.0//EN
VERSION:2.0
BEGIN:VEVENT
CLASS:PUBLIC
CREATED:20251129T092721
DESCRIPTION:XB77 - Rodmersham Police surgery / VAWG talk
DTEND:20260808T120000
DTSTAMP:20251129T092721Z
DTSTART:20260808T100000
LOCATION:Rodmersham Coffee Shop\, \,ME9 0PS
SEQUENCE:0
STATUS:
SUMMARY:XB77 - Rodmersham Police surgery / VAWG talk
UID:AE9583505F899A33688231956C3324FB
END:VEVENT
END:VCALENDAR
