BEGIN:VCALENDAR
PRODID:-//github.com/rianjs/ical.net//NONSGML ical.net 4.0//EN
VERSION:2.0
BEGIN:VEVENT
CLASS:PUBLIC
CREATED:20251129T092443
DESCRIPTION:XB77 - Bredgar Police surgery / VAWG talk
DTEND:20260809T120000
DTSTAMP:20251129T092443Z
DTSTART:20260809T100000
LOCATION:Bredgar Farm Shop\, The Street\,ME9 8EX
SEQUENCE:0
STATUS:
SUMMARY:XB77 - Bredgar Police surgery / VAWG talk
UID:22EC0FDBC50BBBDEA0EBD8281621DA3C
END:VEVENT
END:VCALENDAR
