BEGIN:VCALENDAR
PRODID:-//github.com/rianjs/ical.net//NONSGML ical.net 4.0//EN
VERSION:2.0
BEGIN:VEVENT
CLASS:PUBLIC
CREATED:20260418T114405
DESCRIPTION:
DTEND:20260429T210000
DTSTAMP:20260418T104405Z
DTSTART:20260429T193000
LOCATION:Barton Seagrave Village Hall\, 11 Bertone Road\,NN15 6WF
SEQUENCE:0
SUMMARY:Surgery
UID:F2D04BCB5CE9C70A5FBFB7010F65A3D6
END:VEVENT
END:VCALENDAR
