BEGIN:VCALENDAR
PRODID:-//github.com/rianjs/ical.net//NONSGML ical.net 4.0//EN
VERSION:2.0
BEGIN:VEVENT
CLASS:PUBLIC
CREATED:20251121T102150
DESCRIPTION:
DTEND:20260606T110000
DTSTAMP:20251121T102150Z
DTSTART:20260606T100000
LOCATION:Beckbury Village Hall\, 36 Badger Lane\,TF11 9DF
SEQUENCE:0
STATUS:
SUMMARY:Mobile Police Station
UID:29D88EA39608CABFA7A3161836CE2DF3
END:VEVENT
END:VCALENDAR
