BEGIN:VCALENDAR
PRODID:-//github.com/rianjs/ical.net//NONSGML ical.net 4.0//EN
VERSION:2.0
BEGIN:VEVENT
CLASS:PUBLIC
CREATED:20251121T095939
DESCRIPTION:
DTEND:20260523T110000
DTSTAMP:20251121T095939Z
DTSTART:20260523T100000
LOCATION:SHIFNAL CAR PARK\, Unnamed Road\,TF11
SEQUENCE:0
STATUS:
SUMMARY:Mobile Police Station
UID:029C00DA82E0A58C973426F8FBDF6FCC
END:VEVENT
END:VCALENDAR
