BEGIN:VCALENDAR
PRODID:-//github.com/rianjs/ical.net//NONSGML ical.net 4.0//EN
VERSION:2.0
BEGIN:VEVENT
CLASS:PUBLIC
CREATED:20251118T174455
DESCRIPTION:
DTEND:20260521T190000
DTSTAMP:20251118T174455Z
DTSTART:20260521T180000
LOCATION:Bearley Village Hall\, Snitterfield Road\,CV37 0SR
SEQUENCE:0
STATUS:
SUMMARY:Bearley Village Hall Engagement Surgery
UID:8AA33F3BD6FD1648D8DAE6FB1813CA06
END:VEVENT
END:VCALENDAR
