BEGIN:VCALENDAR
PRODID:-//github.com/rianjs/ical.net//NONSGML ical.net 4.0//EN
VERSION:2.0
BEGIN:VEVENT
CLASS:PUBLIC
CREATED:20251118T174004
DESCRIPTION:
DTEND:20260608T150000
DTSTAMP:20251118T174004Z
DTSTART:20260608T140000
LOCATION:St Nicholas Church\, 15 Beaudesert Lane\,B95 5JY
SEQUENCE:0
STATUS:
SUMMARY:Henley in Arden St Nicholas church surgery
UID:55B2B033C63DAF3C5520F084996FAA9A
END:VEVENT
END:VCALENDAR
