BEGIN:VCALENDAR
PRODID:-//github.com/rianjs/ical.net//NONSGML ical.net 4.0//EN
VERSION:2.0
BEGIN:VEVENT
CLASS:PUBLIC
CREATED:20251118T173104
DESCRIPTION:
DTEND:20260520T170000
DTSTAMP:20251118T173104Z
DTSTART:20260520T160000
LOCATION:Tanworth in Arden Village Hall\, \,B94 5AR
SEQUENCE:0
STATUS:
SUMMARY:Tanworth in Arden Police engagement surgery
UID:97CD91B2072054EDADEAABB3A8FE1CDF
END:VEVENT
END:VCALENDAR
