BEGIN:VCALENDAR
PRODID:-//github.com/rianjs/ical.net//NONSGML ical.net 4.0//EN
VERSION:2.0
BEGIN:VEVENT
CLASS:PUBLIC
CREATED:20260421T154508
DESCRIPTION:
DTEND:20260428T190000
DTSTAMP:20260421T144508Z
DTSTART:20260428T180000
LOCATION:Foxfield Pavilion\, Foxfield Way\,NN4 5BE
SEQUENCE:0
SUMMARY:Foxfields Pavillion - Police Surgery Foxfield Way\, Npton NN4 5BE
UID:6974D1C574A9AC4F8C84DA83C012B7BA
END:VEVENT
END:VCALENDAR
