BEGIN:VCALENDAR
PRODID:-//github.com/rianjs/ical.net//NONSGML ical.net 4.0//EN
VERSION:2.0
BEGIN:VEVENT
CLASS:PUBLIC
CREATED:20251112T122103
DESCRIPTION:Police pop in session to provide the local community an opport
 unity to speak to the SNT team with any concerns they have and to provide
  crime prevention tips around current force and beat priorities. These ar
 e scheduled for once a month across the area to provide a regular opportu
 nity for community to discuss ongoing concerns.
DTEND:20260612T183000
DTSTAMP:20251112T122103Z
DTSTART:20260612T173000
LOCATION:The Barn at Houlton\, Dollman Road Houlton Way\,CV23 1AL
SEQUENCE:0
STATUS:
SUMMARY:Pop in at The Barn
END:VEVENT
END:VCALENDAR
