BEGIN:VCALENDAR
PRODID:-//github.com/rianjs/ical.net//NONSGML ical.net 4.0//EN
VERSION:2.0
BEGIN:VEVENT
CLASS:PUBLIC
CREATED:20251101T102523
DESCRIPTION:Lynsted with Kingsdown Parish Council meeting
DTEND:20260629T213000
DTSTAMP:20251101T102523Z
DTSTART:20260629T193000
LOCATION:Lynsted Church\,ME9 0RH
SEQUENCE:0
STATUS:
SUMMARY:Lynsted with Kingsdown Parish Council meeting
UID:AE51938E990380B1DEC4C701545A3AAE
END:VEVENT
END:VCALENDAR
